BEGIN:VCALENDAR
VERSION:2.0
PRODID:-//Alison Potts: Innate Being - ECPv5.2.1.1//NONSGML v1.0//EN
CALSCALE:GREGORIAN
METHOD:PUBLISH
X-WR-CALNAME:Alison Potts: Innate Being
X-ORIGINAL-URL:http://www.innatebeing.com.au
X-WR-CALDESC:Events for Alison Potts: Innate Being
BEGIN:VTIMEZONE
TZID:Australia/Melbourne
BEGIN:STANDARD
TZOFFSETFROM:+1100
TZOFFSETTO:+1000
TZNAME:AEST
DTSTART:20190406T160000
END:STANDARD
BEGIN:DAYLIGHT
TZOFFSETFROM:+1000
TZOFFSETTO:+1100
TZNAME:AEDT
DTSTART:20191005T160000
END:DAYLIGHT
END:VTIMEZONE
BEGIN:VEVENT
DTSTART;TZID=Australia/Melbourne:20191212T174500
DTEND;TZID=Australia/Melbourne:20191212T190000
DTSTAMP:20260420T051427
CREATED:20191114T072832Z
LAST-MODIFIED:20191114T073221Z
UID:1862-1576172700-1576177200@www.innatebeing.com.au
SUMMARY:Full Moon Meditation - Inna Bliss Bulimba
DESCRIPTION:As 2019 comes to a close and we look back and review\, one thing stands out. This was a year for clearing stuff out\, leaving old stories behind\, saying honourable goodbyes once and for always and making radical decisions and life changes we perhaps once thought we weren’t brave or capable enough to make. All of this has been in service of ending some stories of suffering or of being held back in order to clear the path ahead so that we can progress unhindered with the story we were born to live. \nIn December’s full moon meditation at Inna Bliss Yoga Bulimba\, we seize this glorious opportunity to honour our personal journeys this year – it hasn’t always been easy\, but we are beginning to realise just how worthwhile our fine work with challenges has been. We celebrate our new becoming\, take intentional space to “clear the pipes” one more time of any lingering debris\, harness the blessings of a universe that loves us and supports us and all our dreams and longings\, and bring forth a manifestation of those visions in us waiting to be fulfilled in this new\, clear\, bright space ahead which we will welcome in fully in the new year. Join me for this very special sacred gathering under the celestial brilliance that watches over the end of the year for an uplifting and transformative full moon practice. \nThe full moon is a time of powerful illumination and energetic charge. Certain stories in our lives seem to climax at these times\, while others begin. If we want to be in a receiving state to soak up the energy and direct it to where in our life it is needed\, then meditating during full moon is a gift. It allows us to harness\, assimilate and benefit from these cosmic energies in positive ways. Whatever you might have been looking to clear and release\, whatever visions and dreams you still have waiting inside of you to manifest\, wherever within you there are things asking for compassion and acceptance\, and those blessings you wish for your loved ones and the wider world\, this is a powerful and magical time to bring them into your meditation. \nI will guide you gently and deeply into your own deep experience\, to fill your being with this cosmic light and allow it to support the healing of what needs to be healed and the expansion of what is ready to grow. \n\n\n	Related
URL:http://www.innatebeing.com.au/event/full-moon-meditation-12/
LOCATION:Inna Bliss Bulimba\, 57-59 Oxford Street\, Bulimba\, QLD\, 4171\, Australia
CATEGORIES:Workshop
ATTACH;FMTTYPE=image/jpeg:http://www.innatebeing.com.au/wp-content/uploads/2017/11/Full-Moon-Dec-e1511377558751.jpg
END:VEVENT
END:VCALENDAR