BEGIN:VCALENDAR
VERSION:2.0
PRODID:-//Alison Potts: Innate Being - ECPv5.2.1.1//NONSGML v1.0//EN
CALSCALE:GREGORIAN
METHOD:PUBLISH
X-WR-CALNAME:Alison Potts: Innate Being
X-ORIGINAL-URL:http://www.innatebeing.com.au
X-WR-CALDESC:Events for Alison Potts: Innate Being
BEGIN:VTIMEZONE
TZID:Australia/Melbourne
BEGIN:STANDARD
TZOFFSETFROM:+1100
TZOFFSETTO:+1000
TZNAME:AEST
DTSTART:20190406T160000
END:STANDARD
BEGIN:DAYLIGHT
TZOFFSETFROM:+1000
TZOFFSETTO:+1100
TZNAME:AEDT
DTSTART:20191005T160000
END:DAYLIGHT
END:VTIMEZONE
BEGIN:VEVENT
DTSTART;TZID=Australia/Melbourne:20190806T160000
DTEND;TZID=Australia/Melbourne:20190812T120000
DTSTAMP:20260420T065023
CREATED:20181127T033250Z
LAST-MODIFIED:20181127T033250Z
UID:1382-1565107200-1565611200@www.innatebeing.com.au
SUMMARY:Embodying Bliss - Bali Retreat 2019
DESCRIPTION:Immerse into a week away in the spiritual heart of Bali. \nJoin Amy Wilkinson of Inna Bliss Yoga and me in August 2019 as we travel to Ubud for a truly rejuvenating and soulful experience that will call you home to yourself and inspire you to rest\, replenish and cultivate the most ideal space for you to be\, reflect and reconnect. \nThis year we travel to the idyllic Honai Wellness Resort\, set amidst tropical gardens and rice fields\, where you will feel nourished and supported in your practices of self care and indulgence in luxury and blissful experiences. \nWe endevour each and every day to soak in the serene magic and culture this beautiful island is so steeped in\, as we immerse in morning and afternoon yoga & meditation practices\, within a stunning open air yoga pavilion\, enjoy healthy & delicious local cuisine\, indulge in pampering rituals\, laze\, journal\, explore\, lounge by the private pool\, and maybe sip a cocktail or two as the sun sets\, surrounded by a groups of like minded yogis. \nThe week is entirely yours and the impulse will be around reclaiming your whole self and affirming what is it to seek and embody your Bliss. Off the mat we will explore Bliss in nourishing and uplifting ways as we relax into the beauty\, healing energy & nourishment that such a rich retreat ultimately brings to your body\, mind & spirit. \nEach day will commence with a rejuvenating yoga practice along innate and instinctual meditations\, where we will expand and develop our theme and practices throughout the duration of the retreat. Later in the afternoons\, surrounded by the beauty & sounds of nature\, you will experience the complete nurture of yin and restorative yoga to nourish and rejuvenate. \nOn other days\, I will lead you in afternoon workshops which will focus on the magic of intuitive meditation and sacred practices to listen to your own soul and body and empower and incorporate those voices as your own. We will learn the thrilling skill of tuning into our intuitive wisdom and extra-sensory perception as well as the vital art of healing anything that is getting in the way of your self-love and self-worth. \nWhilst there will be plenty of yoga & meditation on the retreat\, the schedule is tailored to your individual needs so there will be plenty of space to just be\, to melt away the daily stresses of modern life\, to luxuriate\, pamper\, shop\, tune-in\, rest and simply do as you please. \nInclusions:\n* 6 nights in either single or twin share accomodation\, with own private ensuite and balcony at the stunning Honai resort\,\n* Morning and afternoon yoga and meditation practice\n* Daily healthy and nourishing breakfast\n* Welcome ceremony and ritual\n* 2 x balinese massage treatments at luxurious spas with highly trained therpists\n* 4 x dinners (2 in-resort and 2 out at Ubud’s finest restaurants)\nuse of yoga mat and props for the duration of the retreat\n* Two excursions out to explore Ubud’s beauty and majestic culture\n* Airport transfers from Denpasar airport to Ubud\n* Welcome gift on arrival \nAdditional optional activities will be arranged available at own expense. \nEarly bird special : Book in and your pay deposit by Dec 31st and save $50 off! \nEmail: amy@innablissyoga.com.au with expressions of interest and for registration form. \n\n\n	Related
URL:http://www.innatebeing.com.au/event/embodying-bliss-bali-retreat-2019/
CATEGORIES:Retreat
ATTACH;FMTTYPE=image/jpeg:http://www.innatebeing.com.au/wp-content/uploads/2018/11/Bali-2019.jpg
END:VEVENT
END:VCALENDAR