BEGIN:VCALENDAR
VERSION:2.0
PRODID:-//Alison Potts: Innate Being - ECPv3.11.2//NONSGML v1.0//EN
CALSCALE:GREGORIAN
METHOD:PUBLISH
X-WR-CALNAME:Alison Potts: Innate Being
X-ORIGINAL-URL:http://www.innatebeing.com.au
X-WR-CALDESC:Events for Alison Potts: Innate Being
BEGIN:VEVENT
DTSTART;VALUE=DATE:20190129
DTEND;VALUE=DATE:20190313
DTSTAMP:20190301T161653Z
CREATED:20181208T231547Z
LAST-MODIFIED:20190211T071856Z
UID:1398-1548770400-1552485599@www.innatebeing.com.au
SUMMARY:Empowering Intuition - 7-part Course
DESCRIPTION:Course now fully booked. Next course commencing on 8th May (Click here).\n\nA seven part course: Wed evenings 7.15-8.30pm\n\nStarting Wed 30 Jan – 13 Mar @ Inna Bliss Bulimba\n\nOur intuition is arguably the most powerful part of us. In a noisy and externalised world\, having the skill to listen to our inner voice and the courage to follow our heart and inner-knowing is a dynamic\, powerful and highly valuable capacity to develop. This seven- week course allows us to dive deeply into the different ways we can tune into\, grow and empower our intuitive abilities. We will explore a range of ideas\, practices and strategies\, including meditation which is natural\, instinctive and powerfully connecting.\n\nOver the seven weeks we will explore\, practice and grow our intuitive ability so that we can:\n- Connect to inner wisdom\n- Understand an unblock our obstacles to intuition\n- Learn to know the difference between intuition and anxiety or fear\n- Connect to our body’s capacity for self-healing\n- Gain pathways to clarity and the ability to make wise decisions\n- Align with our powerful inner child as a way connecting to our wise nature\n- Align with and be guided by our hearts and our true values\n- Explore and empower the world of our dreams and visions\n- Manifest our heart’s desires and our true calling\n- Make great choices in the realms of work and relationships\n- Connect to a bigger realm of guidance and information than we may normally have\n- Connect to Spirit\, angels\, guides and passed loved ones\n- Develop our psychic awareness and benefit from it\n- Learn Protect our gifts of sensitivity\n- Stay deeply connected to our light and our truth and live from there\n\nInvestment $175 – pre-booking is essential.\n\nClick here to book
URL:http://www.innatebeing.com.au/event/empowering-intuition-7-part-course/
LOCATION:57-59 Oxford Street\, Bulimba\, QLD\, 4171\, Australia
CATEGORIES:Class
ATTACH;FMTTYPE=image/jpeg:http://www.innatebeing.com.au/wp-content/uploads/2018/12/Empowering-Intuition-2.jpg
END:VEVENT
BEGIN:VEVENT
DTSTART:20190320T091500Z
DTEND:20190320T103000Z
DTSTAMP:20190301T161653Z
CREATED:20190201T233646Z
LAST-MODIFIED:20190202T003329Z
UID:1427-1553073300-1553077800@www.innatebeing.com.au
SUMMARY:Full Moon Meditation - Inna Bliss Bulimba
DESCRIPTION:Welcome and feast on the energies of the full moon!\n\nThe full moon is a time of powerful illumination and energetic charge. Certain stories in our lives seem to climax at these times\, while others begin. If we want to be in a receiving state to soak up the energy and direct it to where in our life it is needed\, then meditating during full moon is a gift. It allows us to harness\, assimilate and benefit from these cosmic energies in positive ways. Whatever you might have been looking to clear and release\, whatever visions and dreams you still have waiting inside of you to manifest\, wherever within you there are things asking for compassion and acceptance\, and those blessings you wish for your loved ones and the wider world\, this is a powerful and magical time to bring them into your meditation.\n\nI will guide you gently and deeply into your own deep experience\, to fill your being with this cosmic light and allow it to support the healing of what needs to be healed and the expansion of what is ready to grow.\n\nClick here to book your place
URL:http://www.innatebeing.com.au/event/full-moon-meditation-inna-bliss-bulimba-3/
LOCATION:57-59 Oxford Street\, Bulimba\, QLD\, 4171\, Australia
CATEGORIES:Workshop
ATTACH;FMTTYPE=image/jpeg:http://www.innatebeing.com.au/wp-content/uploads/2017/11/Full-Moon-Dec-e1511377558751.jpg
END:VEVENT
BEGIN:VEVENT
DTSTART:20190330T000000Z
DTEND:20190330T023000Z
DTSTAMP:20190301T161653Z
CREATED:20190113T023430Z
LAST-MODIFIED:20190115T223004Z
UID:1415-1553904000-1553913000@www.innatebeing.com.au
SUMMARY:Meditation and Life Strategies For Sensitive Souls - Workshop at Shri Yoga
DESCRIPTION:Do you find yourself taking on other peoples' stress or pain and adapting or modifying your behaviour as a result? Are you highly sensitive to other peoples' energy? Do you carry "hangover feelings" after experiences of conflict\, distress or sensory overload? If so\, you might be an empath. There are many strategies and meditation practices that can help you to feel safer\, stronger\, and more resilient without sacrificing your integrity\, allowing you to embrace and nurture your sensitivity\, rather than shy away from it.\n\nIn this workshop sensitive souls will learn practices and strategies for:\n\n* Keeping your personal space private while still being yourself\n* Holding steady when you feel disrupted or disturbed\n* Shielding\, protecting and nurturing your psychic space\n* Inhibiting the trespassing of others and their stuff into your energy field\n* Knowing the vital distinction between what's yours and what belongs to others\n* Being able to help without sacrificing your mental and emotional well being\n* Keeping an open heart while remaining stable\, grounded and safe\n* Staying whole and happy no matter who or what comes your way\n\nI am delighted to be offering this workshop at Shri Yoga\, in Burnett Lane in the City.\n\nClick here to book your place.
URL:http://www.innatebeing.com.au/event/meditation-and-life-strategies-for-sensitive-souls-workshop-at-shri-yoga/
LOCATION:Burnett Lane\, Brisbane CBD\, QLD\, 4000\, Australia
CATEGORIES:Workshop
ATTACH;FMTTYPE=image/jpeg:http://www.innatebeing.com.au/wp-content/uploads/2018/08/Empaths.jpg
END:VEVENT
BEGIN:VEVENT
DTSTART;VALUE=DATE:20190507
DTEND;VALUE=DATE:20190619
DTSTAMP:20190301T161653Z
CREATED:20190211T065913Z
LAST-MODIFIED:20190211T071119Z
UID:1433-1557237600-1560952799@www.innatebeing.com.au
SUMMARY:Empowering Intuition - 7-part Course
DESCRIPTION:I am pleased to offer this course again after all places on the first round were booked out earlier this year.\n\nThis is a seven part course\, run weekly on Wednesday evenings from 7.15-8.30pm\, starting May 8th until June 19th at Inna Bliss Yoga\, Bulimba.\n\nOur intuition is arguably the most powerful part of us. In a noisy and externalised world\, having the skill to listen to our inner voice and the courage to follow our heart and inner-knowing is a dynamic\, powerful and highly valuable capacity to develop. This seven- week course allows us to dive deeply into the different ways we can tune into\, grow and empower our intuitive abilities. We will explore a range of ideas\, practices and strategies\, including meditation which is natural\, instinctive and powerfully connecting.\n\nOver the seven weeks we will explore\, practice and grow our intuitive ability so that we can:\n\n- Connect to inner wisdom\n- Understand an unblock our obstacles to intuition\n- Learn to know the difference between intuition and anxiety or fear\n- Connect to our body’s capacity for self-healing\n- Gain pathways to clarity and the ability to make wise decisions\n- Align with our powerful inner child as a way connecting to our wise nature\n- Align with and be guided by our hearts and our true values\n- Explore and empower the world of our dreams and visions\n- Manifest our heart’s desires and our true calling\n- Make great choices in the realms of work and relationships\n- Connect to a bigger realm of guidance and information than we may normally have\n- Connect to Spirit\, angels\, guides and passed loved ones\n\n- Develop our psychic awareness and benefit from it\n- Learn Protect our gifts of sensitivity\n- Stay deeply connected to our light and our truth and live from there\n\nInvestment $175 – pre-booking essential\n\nFollow the link here to book your place.\n\n 
URL:http://www.innatebeing.com.au/event/empowering-intuition-7-part-course-2/
LOCATION:57-59 Oxford Street\, Bulimba\, QLD\, 4171\, Australia
CATEGORIES:Class,Workshop
ATTACH;FMTTYPE=image/jpeg:http://www.innatebeing.com.au/wp-content/uploads/2019/02/Empowering-Intuition-3-e1549868332554.jpg
END:VEVENT
BEGIN:VEVENT
DTSTART:20190606T040000Z
DTEND:20190609T020000Z
DTSTAMP:20190301T161653Z
CREATED:20181219T195035Z
LAST-MODIFIED:20181219T195339Z
UID:1404-1559793600-1560045600@www.innatebeing.com.au
SUMMARY:At Home In Your Heart - Winter Farm Retreat
DESCRIPTION:At the dawning of winter\, a yoga and meditation retreat\, where the invitation is to arrive home and rest into your heart\, reclaiming and renewing the infinite source of beauty and inspiration we have within so we can return to the world with a more vivid presence\, vitalised for life inside and out.\n\nJoin Amy Wilkinson of Inna Bliss Yoga and me for this 3 night wholesome luxury retreat\, held at the stunning Wybelena Organic Farm\, situated in over 170 acres of serene and luscious property in Byron Shire.\n\nTogether we will enjoy 4 days of yoga and meditation practices and workshops that will guide us to go inside and connect to the centre of our being\, to ground and to cultivate a lasting sanctuary of healing\, renewal and radiance. We'll enjoy an abundance of organic and healing foods\, cosy fire chats and soul affirming rituals as well as plenty of space to simply be and bask in the magnificent potency and beauty of the surrounds.\n\nEach day will commence with a sunrise meditation\, infusing our senses with the delights of nature\, and followed up by a nourishing and invigorating yoga practice. The afternoons will be spent sharing in one of Alison's workshops in her inspiring and instinctual approach to meditation\, or immersing into a deeply healing and restorative yoga practice\, infused with essential oils\, guided visualisations and self care rituals\, designed to ground\, purify and elevate your presence. On the Saturday evening we'll connect around an open fire and share in a delightful music and wine meditation to luxuriate in our senses even more. It's all about balance after all.\n\nIf you are feeling called to move into next winter by prioritizing you and taking the space to retreat with a group of like minded souls\, embracing the delights of nature and immersing into practices that will nestle you deeper into your heart and into your spirit\, then this one is for you!\n\nFollow the link for details and pricing: http://www.innablissyoga.com.au/brisbane-yoga-events/2017/2/17/at-home-in-your-heart-luxury-organic-farm-retreat
URL:http://www.innatebeing.com.au/event/at-home-in-your-heart-winter-farm-retreat/
LOCATION:789 The Pocket Road\, The Pocket\, NSW\, 2483\, Australia
CATEGORIES:Retreat
ATTACH;FMTTYPE=image/jpeg:http://www.innatebeing.com.au/wp-content/uploads/2018/12/At-Home-In-Your-Heart.jpg
END:VEVENT
BEGIN:VEVENT
DTSTART:20190806T060000Z
DTEND:20190812T020000Z
DTSTAMP:20190301T161653Z
CREATED:20181127T033250Z
LAST-MODIFIED:20181127T033250Z
UID:1382-1565071200-1565575200@www.innatebeing.com.au
SUMMARY:Embodying Bliss - Bali Retreat 2019
DESCRIPTION:Immerse into a week away in the spiritual heart of Bali.\n\nJoin Amy Wilkinson of Inna Bliss Yoga and me in August 2019 as we travel to Ubud for a truly rejuvenating and soulful experience that will call you home to yourself and inspire you to rest\, replenish and cultivate the most ideal space for you to be\, reflect and reconnect.\n\nThis year we travel to the idyllic Honai Wellness Resort\, set amidst tropical gardens and rice fields\, where you will feel nourished and supported in your practices of self care and indulgence in luxury and blissful experiences.\n\nWe endevour each and every day to soak in the serene magic and culture this beautiful island is so steeped in\, as we immerse in morning and afternoon yoga & meditation practices\, within a stunning open air yoga pavilion\, enjoy healthy & delicious local cuisine\, indulge in pampering rituals\, laze\, journal\, explore\, lounge by the private pool\, and maybe sip a cocktail or two as the sun sets\, surrounded by a groups of like minded yogis.\n\nThe week is entirely yours and the impulse will be around reclaiming your whole self and affirming what is it to seek and embody your Bliss. Off the mat we will explore Bliss in nourishing and uplifting ways as we relax into the beauty\, healing energy & nourishment that such a rich retreat ultimately brings to your body\, mind & spirit.\n\nEach day will commence with a rejuvenating yoga practice along innate and instinctual meditations\, where we will expand and develop our theme and practices throughout the duration of the retreat. Later in the afternoons\, surrounded by the beauty & sounds of nature\, you will experience the complete nurture of yin and restorative yoga to nourish and rejuvenate.\n\nOn other days\, I will lead you in afternoon workshops which will focus on the magic of intuitive meditation and sacred practices to listen to your own soul and body and empower and incorporate those voices as your own. We will learn the thrilling skill of tuning into our intuitive wisdom and extra-sensory perception as well as the vital art of healing anything that is getting in the way of your self-love and self-worth.\n\nWhilst there will be plenty of yoga & meditation on the retreat\, the schedule is tailored to your individual needs so there will be plenty of space to just be\, to melt away the daily stresses of modern life\, to luxuriate\, pamper\, shop\, tune-in\, rest and simply do as you please.\n\nInclusions:\n* 6 nights in either single or twin share accomodation\, with own private ensuite and balcony at the stunning Honai resort\,\n* Morning and afternoon yoga and meditation practice\n* Daily healthy and nourishing breakfast\n* Welcome ceremony and ritual\n* 2 x balinese massage treatments at luxurious spas with highly trained therpists\n* 4 x dinners (2 in-resort and 2 out at Ubud's finest restaurants)\nuse of yoga mat and props for the duration of the retreat\n* Two excursions out to explore Ubud's beauty and majestic culture\n* Airport transfers from Denpasar airport to Ubud\n* Welcome gift on arrival\n\nAdditional optional activities will be arranged available at own expense.\n\nEarly bird special : Book in and your pay deposit by Dec 31st and save $50 off!\n\nEmail: amy@innablissyoga.com.au with expressions of interest and for registration form.
URL:http://www.innatebeing.com.au/event/embodying-bliss-bali-retreat-2019/
LOCATION:QLD
CATEGORIES:Retreat
ATTACH;FMTTYPE=image/jpeg:http://www.innatebeing.com.au/wp-content/uploads/2018/11/Bali-2019.jpg
END:VEVENT
END:VCALENDAR